Workbook
Name EmballageType: EmballageListe[Dansk]
Name FAOAfsnit: Afsnit[Afsnit]
Name FAOFangstområde: Fangstområde[Fangstområde]
Name FAOUnderområde: Underområde[Underområde]
Name LandelisteFAO: AlleLande[Lande (dansk)]
Name LandelisteUdenFAO: LandeUdenFAO[Lande (dansk)]
Name Materialetype: MaterialeListe[Dansk]

Sheet Energiberegning
A1: Til næringsfane | F1: Til supplerende næringsfane | K1: Til extra næringsfane
B2: Afrundet | C2: kJ/g | G2: Afrundet | H2: kJ/g | L2: Afrundet | M2: kJ/g
A3: Fedt | B3: =IF(Næringsdeklaration!D39="",0,IF(Næringsdeklaration!D39<0.5,ROUND(Næringsdeklaration!D39,1),IF(Næringsdeklaration!D39=0.5,ROUND(Næringsdeklaration!D39,1),IF(AND(Næringsdeklaration!D39>0.5,Næringsdeklaration!D39<10),ROUND(Næringsdeklaration!D39,1),IF(Næringsdeklaration!D39=10,ROUND(Næringsdeklaration!D39,0),IF(Næringsdeklaration!D39>10,ROUND(Næringsdeklaration!D39,0))))))) -> 0 | C3: =IFERROR(B3*37,0) -> 0 | F3: Fedt | G3: =IF('Bilag I Supplerende næringsdek'!D21="",0,IF('Bilag I Supplerende næringsdek'!D21<0.5,ROUND('Bilag I Supplerende næringsdek'!D21,1),IF('Bilag I Supplerende næringsdek'!D21=0.5,ROUND('Bilag I Supplerende næringsdek'!D21,1),IF(AND('Bilag I Supplerende næringsdek'!D21>0.5,'Bilag I Supplerende næringsdek'!D21<10),ROUND('Bilag I Supplerende næringsdek'!D21,1),IF('Bilag I Supplerende næringsdek'!D21=10,ROUND('Bilag I Supplerende næringsdek'!D21,0),IF('Bilag I Supplerende næringsdek'!D21>10,ROUND('Bilag I Supplerende næringsdek'!D21,0))))))) -> 0 | H3: =IFERROR(G3*37,0) -> 0 | K3: Fedt | L3: =IF('Bilag I Supplerende næringsdek'!D58="",0,IF('Bilag I Supplerende næringsdek'!D58<0.5,ROUND('Bilag I Supplerende næringsdek'!D58,1),IF('Bilag I Supplerende næringsdek'!D58=0.5,ROUND('Bilag I Supplerende næringsdek'!D58,1),IF(AND('Bilag I Supplerende næringsdek'!D58>0.5,'Bilag I Supplerende næringsdek'!D58<10),ROUND('Bilag I Supplerende næringsdek'!D58,1),IF('Bilag I Supplerende næringsdek'!D58=10,ROUND('Bilag I Supplerende næringsdek'!D58,0),IF('Bilag I Supplerende næringsdek'!D58>10,ROUND('Bilag I Supplerende næringsdek'!D58,0))))))) -> 0 | M3: =IFERROR(L3*37,0) -> 0
A4: Kulhydrat | B4: =IF(Næringsdeklaration!D43="",0,IF(Næringsdeklaration!D43<0.5,ROUND(Næringsdeklaration!D43,1),IF(Næringsdeklaration!D43=0.5,ROUND(Næringsdeklaration!D43,1),IF(AND(Næringsdeklaration!D43>0.5,Næringsdeklaration!D43<10),ROUND(Næringsdeklaration!D43,1),IF(Næringsdeklaration!D43=10,ROUND(Næringsdeklaration!D43,0),IF(Næringsdeklaration!D43>10,ROUND(Næringsdeklaration!D43,0))))))) -> 0 | C4: =IFERROR((B4-T5)*17,0) -> 0 | F4: Kulhydrat | G4: =IF('Bilag I Supplerende næringsdek'!D25="",0,IF('Bilag I Supplerende næringsdek'!D25<0.5,ROUND('Bilag I Supplerende næringsdek'!D25,1),IF('Bilag I Supplerende næringsdek'!D25=0.5,ROUND('Bilag I Supplerende næringsdek'!D25,1),IF(AND('Bilag I Supplerende næringsdek'!D25>0.5,'Bilag I Supplerende næringsdek'!D25<10),ROUND('Bilag I Supplerende næringsdek'!D25,1),IF('Bilag I Supplerende næringsdek'!D25=10,ROUND('Bilag I Supplerende næringsdek'!D25,0),IF('Bilag I Supplerende næringsdek'!D25>10,ROUND('Bilag I Supplerende næringsdek'!D25,0))))))) -> 0 | H4: =IFERROR((G4-Y5)*17,0) -> 0 | K4: Kulhydrat | L4: =IF('Bilag I Supplerende næringsdek'!D62="",0,IF('Bilag I Supplerende næringsdek'!D62<0.5,ROUND('Bilag I Supplerende næringsdek'!D62,1),IF('Bilag I Supplerende næringsdek'!D62=0.5,ROUND('Bilag I Supplerende næringsdek'!D62,1),IF(AND('Bilag I Supplerende næringsdek'!D62>0.5,'Bilag I Supplerende næringsdek'!D62<10),ROUND('Bilag I Supplerende næringsdek'!D62,1),IF('Bilag I Supplerende næringsdek'!D62=10,ROUND('Bilag I Supplerende næringsdek'!D62,0),IF('Bilag I Supplerende næringsdek'!D62>10,ROUND('Bilag I Supplerende næringsdek'!D62,0))))))) -> 0 | M4: =IFERROR((L4-AD5)*17,0) -> 0
A5: heraf sukkeralkoholer | B5: =Næringsdeklaration!D45 -> 0 | C5: =IFERROR(B5*10,0) -> 0 | F5: heraf sukkeralkoholer | G5: ='Bilag I Supplerende næringsdek'!D27 -> 0 | H5: =IFERROR(G5*10,0) -> 0 | K5: heraf sukkeralkoholer | L5: ='Bilag I Supplerende næringsdek'!D64 -> 0 | M5: =IFERROR(L5*10,0) -> 0
A6: Organisk syre | B6: =Næringsdeklaration!D51 -> 0 | C6: =IFERROR(B6*13,0) -> 0 | F6: Organisk syre | G6: ='Bilag I Supplerende næringsdek'!D33 -> 0 | H6: =IFERROR(G6*13,0) -> 0 | K6: Organisk syre | L6: ='Bilag I Supplerende næringsdek'!D70 -> 0 | M6: =IFERROR(L6*13,0) -> 0
A7: Kostfibre | B7: =IF(Næringsdeklaration!D46="",0,IF(Næringsdeklaration!D46<0.5,ROUND(Næringsdeklaration!D46,1),IF(Næringsdeklaration!D46=0.5,ROUND(Næringsdeklaration!D46,1),IF(AND(Næringsdeklaration!D46>0.5,Næringsdeklaration!D46<10),ROUND(Næringsdeklaration!D46,1),IF(Næringsdeklaration!D46=10,ROUND(Næringsdeklaration!D46,0),IF(Næringsdeklaration!D46>10,ROUND(Næringsdeklaration!D46,0))))))) -> 0 | C7: =IFERROR(B7*8,0) -> 0 | F7: Kostfibre | G7: =IF('Bilag I Supplerende næringsdek'!D28="",0,IF('Bilag I Supplerende næringsdek'!D28<0.5,ROUND('Bilag I Supplerende næringsdek'!D28,1),IF('Bilag I Supplerende næringsdek'!D28=0.5,ROUND('Bilag I Supplerende næringsdek'!D28,1),IF(AND('Bilag I Supplerende næringsdek'!D28>0.5,'Bilag I Supplerende næringsdek'!D28<10),ROUND('Bilag I Supplerende næringsdek'!D28,1),IF('Bilag I Supplerende næringsdek'!D28=10,ROUND('Bilag I Supplerende næringsdek'!D28,0),IF('Bilag I Supplerende næringsdek'!D28>10,ROUND('Bilag I Supplerende næringsdek'!D28,0))))))) -> 0 | H7: =IFERROR(G7*8,0) -> 0 | K7: Kostfibre | L7: =IF('Bilag I Supplerende næringsdek'!D65="",0,IF('Bilag I Supplerende næringsdek'!D65<0.5,ROUND('Bilag I Supplerende næringsdek'!D65,1),IF('Bilag I Supplerende næringsdek'!D65=0.5,ROUND('Bilag I Supplerende næringsdek'!D65,1),IF(AND('Bilag I Supplerende næringsdek'!D65>0.5,'Bilag I Supplerende næringsdek'!D65<10),ROUND('Bilag I Supplerende næringsdek'!D65,1),IF('Bilag I Supplerende næringsdek'!D65=10,ROUND('Bilag I Supplerende næringsdek'!D65,0),IF('Bilag I Supplerende næringsdek'!D65>10,ROUND('Bilag I Supplerende næringsdek'!D65,0))))))) -> 0 | M7: =IFERROR(L7*8,0) -> 0
A8: Protein | B8: =IF(Næringsdeklaration!D47="",0,IF(Næringsdeklaration!D47<0.5,ROUND(Næringsdeklaration!D47,1),IF(Næringsdeklaration!D47=0.5,ROUND(Næringsdeklaration!D47,1),IF(AND(Næringsdeklaration!D47>0.5,Næringsdeklaration!D47<10),ROUND(Næringsdeklaration!D47,1),IF(Næringsdeklaration!D47=10,ROUND(Næringsdeklaration!D47,0),IF(Næringsdeklaration!D47>10,ROUND(Næringsdeklaration!D47,0))))))) -> 0 | C8: =IFERROR(B8*17,0) -> 0 | F8: Protein | G8: =IF('Bilag I Supplerende næringsdek'!D29="",0,IF('Bilag I Supplerende næringsdek'!D29<0.5,ROUND('Bilag I Supplerende næringsdek'!D29,1),IF('Bilag I Supplerende næringsdek'!D29=0.5,ROUND('Bilag I Supplerende næringsdek'!D29,1),IF(AND('Bilag I Supplerende næringsdek'!D29>0.5,'Bilag I Supplerende næringsdek'!D29<10),ROUND('Bilag I Supplerende næringsdek'!D29,1),IF('Bilag I Supplerende næringsdek'!D29=10,ROUND('Bilag I Supplerende næringsdek'!D29,0),IF('Bilag I Supplerende næringsdek'!D29>10,ROUND('Bilag I Supplerende næringsdek'!D29,0))))))) -> 0 | H8: =IFERROR(G8*17,0) -> 0 | K8: Protein | L8: =IF('Bilag I Supplerende næringsdek'!D66="",0,IF('Bilag I Supplerende næringsdek'!D66<0.5,ROUND('Bilag I Supplerende næringsdek'!D66,1),IF('Bilag I Supplerende næringsdek'!D66=0.5,ROUND('Bilag I Supplerende næringsdek'!D66,1),IF(AND('Bilag I Supplerende næringsdek'!D66>0.5,'Bilag I Supplerende næringsdek'!D66<10),ROUND('Bilag I Supplerende næringsdek'!D66,1),IF('Bilag I Supplerende næringsdek'!D66=10,ROUND('Bilag I Supplerende næringsdek'!D66,0),IF('Bilag I Supplerende næringsdek'!D66>10,ROUND('Bilag I Supplerende næringsdek'!D66,0))))))) -> 0 | M8: =IFERROR(L8*17,0) -> 0
A9: Alkohol | B9: =Næringsdeklaration!D52 -> 0 | C9: =IFERROR(B9*29,0) -> 0 | F9: Alkohol | G9: ='Bilag I Supplerende næringsdek'!D34 -> 0 | H9: =IFERROR(G9*29,0) -> 0 | K9: Alkohol | L9: ='Bilag I Supplerende næringsdek'!D71 -> 0 | M9: =IFERROR(L9*29,0) -> 0
A10: Salatrim | B10: =Næringsdeklaration!D53 -> 0 | C10: =IFERROR(B10*25,0) -> 0 | F10: Salatrim | G10: ='Bilag I Supplerende næringsdek'!D35 -> 0 | H10: =IFERROR(G10*25,0) -> 0 | K10: Salatrim | L10: ='Bilag I Supplerende næringsdek'!D72 -> 0 | M10: =IFERROR(L10*25,0) -> 0
A11: Erythritol | B11: =Næringsdeklaration!D54 -> 0 | C11: =IFERROR(B11*0,0) -> 0 | F11: Erythritol | G11: ='Bilag I Supplerende næringsdek'!D36 -> 0 | H11: =IFERROR(G11*0,0) -> 0 | K11: Erythritol | L11: ='Bilag I Supplerende næringsdek'!D73 -> 0 | M11: =IFERROR(L11*0,0) -> 0
A13: Kj | C13: =ROUND(SUM(C3:C11),0) -> 0 | F13: Kj | H13: =ROUND(SUM(H3:H11),0) -> 0 | K13: Kj | M13: =ROUND(SUM(M3:M11),0) -> 0
A14: Kcal | C14: =ROUND(B3*9+(B4-B5)*4+B5*2.4+B6*3+B7*2+B8*4+B9*7+B10*6,0) -> 0 | F14: Kcal | H14: =ROUND(G3*9+(G4-G5)*4+G5*2.4+G6*3+G7*2+G8*4+G9*7+G10*6,0) -> 0 | K14: Kcal | M14: =ROUND(L3*9+(L4-L5)*4+L5*2.4+L6*3+L7*2+L8*4+L9*7+L10*6,0) -> 0

Sheet EmballageDDGS1
A2: Emballagetype (PackagingPartCodeList)
A3: Dansk | B3: Engelsk | C3: Overførsel | D3: GdsnCode2 | E3: ID
A4: Vælg | B4: Select
A5: Ampul | B5: Ampoule | C5: Ampoule | D5: AM | E5: 81501
A6: Bag-In-Box | B6: Bag in Box | C6: Bag in Box | D6: BBG | E6: 81503
A7: Bakke | B7: Tray | C7: Tray | D7: PU | E7: 81532
A8: Bestik, service | B8: Disposable cutlery | C8: Disposable cutlery | D8: CONSUMPTION_UTENSIL | E8: 81490
A9: Blister pakke | B9: Blister pack | C9: Blister pack | D9: BPG | E9: 81509
A10: Brik | B10: Brick | C10: Brick | D10: BRI | E10: 81510
A11: Bur | B11: Cage | C11: Cage | D11: CG | E11: 81512
A12: Bøtte | B12: Pot | C12: Pot | D12: PT | E12: 81531
A13: Clamshell beholder | B13: Clam Shell | C13: Clam Shell | D13: CMS | E13: 81514
A14: Cylinder | B14: Cylinder | C14: Cylinder | D14: CY | E14: 81520
A15: Dispenser/pumpe | B15: Tap/dispenser/pump | C15: Tap/dispenser/pump | D15: DISPENSER | E15: 81496
A16: Dunk | B16: Jug | C16: Jug | D16: JG | E16: 81523
A17: Dåse | B17: Can | C17: Can | D17: CNG | E17: 81515
A18: Film/folie | B18: Film/foil | C18: Film/foil
A19: Flaske | B19: Bottle | C19: Bottle | D19: BO | E19: 81508
A20: Fleksible midlertidig beholder | B20: Flexible Intermediate Bulk Container | C20: Flexible Intermediate Bulk Container | D20: ZU | E20: 81542
A21: Glas/Krukke | B21: Jar | C21: Jar | D21: JR | E21: 81524
A22: Hætte | B22: Cap | C22: Cap | D22: CAP | E22: 81488
A23: Håndtag | B23: Hanger | C23: Hanger | D23: HANDLE | E23: 81491
A24: Indbundet pakke | B24: Banded package | C24: Banded package | D24: X11 | E24: 81507
A25: Indpakning | B25: Wrapper | C25: Wrapper | D25: WRP | E25: 81541
A26: Karton | B26: Carton | C26: Carton | D26: CT | E26: 81518
A27: Karton (Gable-top) | B27: Gable Top | C27: Gable Top | D27: GTG | E27: 81522
A28: Kasse | B28: Case | C28: Case | D28: CS | E28: 81517
A29: Kasse uden låg | B29: Crate | C29: Crate | D29: CR | E29: 81516
A30: Kop/bæger | B30: Cup\Tub | C30: Cup\Tub | D30: CU | E30: 81519
... A55: Stor fast beholder | B55: Intermediate Bulk Container, rigid plastic | C55: Intermediate Bulk Container, rigid plastic | D55: AA | E55: 81499
A56: Strips | B56: Strips | C56: Strips
A57: Ståpose | B57: Pouch | C57: Pouch | D57: PO | E57: 81530
A58: Sugerør | B58: Straw | C58: Straw
A59: Tape | B59: Tape | C59: Tape
A60: Tube | B60: Tube | C60: Tube | D60: TU | E60: 81540
A61: Tønde | B61: Barrel | C61: Barrel | D61: BA | E61: 81502
A62: Ventil | B62: Valve | C62: Valve
A63: Viklet ind i plastikfilm | B63: Stretchwrapped | C63: Stretchwrapped | D63: STR | E63: 81537
A64: Vindue | B64: Window | C64: Window | D64: WINDOW | E64: 81497
A65: Æske | B65: Box | C65: Box | D65: BX | E65: 81511
...

Sheet Drop down
A1: Ja/Nej | B1: Engelsk oversættelse | D1: Lande | I1: Lande | P1: Betinget formatering - Skift alt efter om det er Dansk eller engelsk | R1: Til dataformler
D2: Dansk | E2: Norsk | F2: Engelsk | I2: Dansk | J2: Norsk | K2: Engelsk | R2: Dansk | S2: Engelsk | V2: Fangstområde | X2: Underområde | Z2: Afsnit
D3: Lande (dansk) | E3: Lande (NO) | F3: Lande (ENG) | G3: ISO 3166-1 | I3: Lande (dansk) | J3: Lande (NO) | K3: Lande (ENG) | L3: ISO 3166-1 | P3: Sprog | R3: Vælg | S3: Select | V3: FAO 1 | X3: FAO 21.0 | Z3: FAO 21.0.A
A4: Dansk | B4: Engelsk | D4: Afghanistan | E4: Afghanistan | F4: Afghanistan | G4: AFG | I4: Afghanistan | J4: Afghanistan | K4: Afghanistan | L4: AFG | P4: Dansk | V4: FAO 2 | X4: FAO 21.1 | Z4: FAO 21.0.B
A5: Vælg | B5: Select | D5: Albanien | E5: Albania | F5: Albania | G5: ALB | I5: Albanien | J5: Albania | K5: Albania | L5: ALB | V5: FAO 3 | X5: FAO 21.2 | Z5: FAO 21.1.A
A6: Ja | B6: Yes | D6: Algeriet | E6: Algerie | F6: Algeria | G6: DZA | I6: Algeriet | J6: Algerie | K6: Algeria | L6: DZA | P6: =IF($P$4="Engelsk","Select","Vælg") -> Vælg | V6: FAO 4 | X6: FAO 21.4 | Z6: FAO 21.1.B
A7: Nej | B7: No | D7: Andorra | E7: Andorra | F7: Andorra | G7: AND | I7: Andorra | J7: Andorra | K7: Andorra | L7: AND | P7: =IF($P$4="Engelsk","Insert","Indsæt") -> Indsæt | V7: FAO 5 | X7: FAO 21.5 | Z7: FAO 21.1.C
D8: Angola | E8: Angola | F8: Angola | G8: AGO | I8: Angola | J8: Angola | K8: Angola | L8: AGO | P8: =IF($P$4="Engelsk","Packaging part not selected","Emballagedel ikke valgt") -> Emballagedel ikke valgt | V8: FAO 6 | X8: FAO 21.6 | Z8: FAO 21.1.D
D9: Antigua &Barbuda | E9: Antigua og Barbuda | F9: Antigua & Barbuda | G9: ATG | I9: Antigua &Barbuda | J9: Antigua og Barbuda | K9: Antigua & Barbuda | L9: ATG | P9: =IF($P$4="Engelsk","Calculated","Beregnes") -> Beregnes | V9: FAO 7 | X9: FAO 27.1 | Z9: FAO 21.1.E
A10: Nettoindhold enheder: | D10: Argentina | E10: Argentina | F10: Argentina | G10: ARG | I10: Argentina | J10: Argentina | K10: Argentina | L10: ARG | P10: =IF($P$4="Engelsk","Yes","Ja") -> Ja | V10: FAO 8 | X10: FAO 27.10 | Z10: FAO 21.1.F
A11: Dansk | B11: Engelsk | D11: Armenien | E11: Armenia | F11: Armenia | G11: ARM | I11: Armenien | J11: Armenia | K11: Armenia | L11: ARM | P11: =IF($P$4="Engelsk","No","Nej") -> Nej | V11: FAO 18 | X11: FAO 27.12 | Z11: FAO 21.2.G
A12: Vælg | B12: Select | D12: Aserbajdsjan | E12: Aserbajdsjan | F12: Azerbaijan | G12: AZE | I12: Aserbajdsjan | J12: Aserbajdsjan | K12: Azerbaijan | L12: AZE | P12: =IF($P$4="Engelsk","Next","Næste") -> Næste | V12: FAO 21 | X12: FAO 27.14 | Z12: FAO 21.2.H
A13: g | B13: g | D13: Australien | E13: Australia | F13: Australia | G13: AUS | I13: Australien | J13: Australia | K13: Australia | L13: AUS | P13: =IF($P$4="Engelsk","Previous","Forrige") -> Forrige | V13: FAO 27 | X13: FAO 27.2 | Z13: FAO 21.2.J
A14: ml | B14: ml | D14: Bahamas | E14: Bahamas | F14: Bahamas | G14: BHS | I14: Bahamas | J14: Bahamas | K14: Bahamas | L14: BHS | P14: =IF($P$4="Engelsk","All rights to this document belong to Varefakta, and the document may not be copied, reproduced, passed on and / or used without prior written permission from Varefakta. (version 26.1).","Alle rettigheder til dette dokument tilhører Varefakta, og dokumentet må ikke kopieres, gengives, videregives og/eller benyttes uden forudgående skriftlig tilladelse fra Varefakta (Version 26.1).") -> Alle rettigheder til dette dokument tilhører Varefakta, og dokumentet må ikke kopieres, gengives, videregives og/eller benyttes uden forudgående skriftlig tilladelse fra Varefakta (Version 26.1). | V14: FAO 30 | X14: FAO 27.3 | Z14: FAO 21.3.
A15: Tiltrykkes efterfølgende | B15: Printed afterwards | D15: Bahrain | E15: Bahrain | F15: Bahrain | G15: BHR | I15: Bahrain | J15: Bahrain | K15: Bahrain | L15: BHR | P15: DDMMYY | V15: FAO 34 | X15: FAO 27.4 | Z15: FAO 21.3.K
D16: Bangladesh | E16: Bangladesh | F16: Bangladesh | G16: BGD | I16: Bangladesh | J16: Bangladesh | K16: Bangladesh | L16: BGD | V16: FAO 37 | X16: FAO 27.5 | Z16: FAO 21.3.L
A17: Tilsætning oprindelser: | D17: Barbados | E17: Barbados | F17: Barbados | G17: BRB | I17: Barbados | J17: Barbados | K17: Barbados | L17: BRB | V17: FAO 41 | X17: FAO 27.6 | Z17: FAO 21.3.M
D18: Belgien | E18: Belgia | F18: Belgium | G18: BEL | I18: Belgien | J18: Belgia | K18: Belgium | L18: BEL | V18: FAO 48 | X18: FAO 27.7 | Z18: FAO 21.3.N
A19: Dansk | B19: Engelsk | D19: Belize | E19: Belize | F19: Belize | G19: BLZ | I19: Belize | J19: Belize | K19: Belize | L19: BLZ | V19: FAO 51 | X19: FAO 27.8 | Z19: FAO 21.3.O
A20: Vælg | B20: Select | D20: Benin | E20: Benin | F20: Benin | G20: BEN | I20: Benin | J20: Benin | K20: Benin | L20: BEN | V20: FAO 57 | X20: FAO 27.9 | Z20: FAO 21.3.P
A21: Vegetabilsk | B21: Vegetable | D21: Bhutan | E21: Bhutan | F21: Bhutan | G21: BTN | I21: Bhutan | J21: Bhutan | K21: Bhutan | L21: BTN | V21: FAO 58 | X21: FAO 34.1 | Z21: FAO 21.4.R
A22: Animalsk | B22: Animal | D22: Bolivia | E22: Bolivia | F22: Bolivia | G22: BOL | I22: Bolivia | J22: Bolivia | K22: Bolivia | L22: BOL | V22: FAO 61 | X22: FAO 34.2 | Z22: FAO 21.4.S
A23: Mikrobiel | B23: Microbial | D23: Bosnien-Herzegovina | E23: Bosnia og Herzegovina | F23: Bosnia and Herzegovina | G23: BIH | I23: Bosnien-Herzegovina | J23: Bosnia og Herzegovina | K23: Bosnia and Herzegovina | L23: BIH | V23: FAO 67 | X23: FAO 34.3 | Z23: FAO 21.4.t
A24: Syntetisk | B24: Synthetic | D24: Botswana | E24: Botswana | F24: Botswana | G24: BWA | I24: Botswana | J24: Botswana | K24: Botswana | L24: BWA | V24: FAO 71 | X24: FAO 34.4 | Z24: FAO 21.4.v
D25: Brasilien | E25: Brasil | F25: Brazil | G25: BRA | I25: Brasilien | J25: Brasil | K25: Brazil | L25: BRA | V25: FAO 77 | X25: FAO 37.1 | Z25: FAO 21.4.w
A26: Glycyrrhizinsyre | D26: Brunei | E26: Brunei | F26: Brunei | G26: BRN | I26: Brunei | J26: Brunei | K26: Brunei | L26: BRN | V26: FAO 81 | X26: FAO 37.2 | Z26: FAO 21.4.X
D27: Bulgarien | E27: Bulgaria | F27: Bulgaria | G27: BGR | I27: Bulgarien | J27: Bulgaria | K27: Bulgaria | L27: BGR | V27: FAO 87 | X27: FAO 37.3 | Z27: FAO 21.5.Y
A28: Dansk | B28: Engelsk | D28: Burkina Faso | E28: Burkina Faso | F28: Burkina Faso | G28: BFA | I28: Burkina Faso | J28: Burkina Faso | K28: Burkina Faso | L28: BFA | V28: FAO 88 | X28: FAO 37.4 | Z28: FAO 21.5.Z
A29: Vælg | B29: Select | D29: Burma (Myanmar) | E29: Burma (Myanmar) | F29: Burma (Myanmar) | G29: MMR | I29: Burma (Myanmar) | J29: Burma (Myanmar) | K29: Burma (Myanmar) | L29: MMR | X29: FAO 41.1 | Z29: FAO 21.6.A
A30: 4 g/kg eller derover for konfekture | B30: 4 g/kg or more for confectionery | D30: Burundi | E30: Burundi | F30: Burundi | G30: BDI | I30: Burundi | J30: Burundi | K30: Burundi | L30: BDI | X30: FAO 41.2 | Z30: FAO 21.6.B
A31: Under 4 g/kg for konfekture | B31: Under 4 g/kg for confectionery | D31: Cambodja | E31: Kambodsja | F31: Cambodia | G31: KHM | I31: Cambodja | J31: Kambodsja | K31: Cambodia | L31: KHM | X31: FAO 47.1 | Z31: FAO 21.6.C
A32: 100 mg/kg eller 10 mg/l eller derover på konfekture eller drikkevarer | B32: 100 mg/kg or 10 mg/l or more for confectionery or beverages | D32: Cameroun | E32: Kamerun | F32: Cameroon | G32: CMR | I32: Cameroun | J32: Kamerun | K32: Cameroon | L32: CMR | X32: FAO 47.2 | Z32: FAO 21.6.D
A33: Under 100 mg/kg eller 10 mg/l for konfekture eller drikkevarer | B33: Under 100 mg/kg or 10 mg/l for confectionery or beverages | D33: Canada | E33: Canada | F33: Canada | G33: CAN | I33: Canada | J33: Canada | K33: Canada | L33: CAN | X33: FAO 47.A | Z33: FAO 21.6.E
D34: Centralafrika | E34: Sentral-Afrika | F34: Central Africa | G34: CAF | I34: Centralafrika | J34: Sentral-Afrika | K34: Central Africa | L34: CAF | X34: FAO 47.C | Z34: FAO 21.6.F
D35: Chad | E35: Tsjad | F35: Chad | G35: TCD | I35: Chad | J35: Tsjad | K35: Chad | L35: TCD | X35: FAO 47.D | Z35: FAO 21.6.G
A36: Næringsindhold | D36: Chile | E36: Chile | F36: Chile | G36: CHL | I36: Chile | J36: Chile | K36: Chile | L36: CHL | X36: FAO 48.1 | Z36: FAO 21.6.H
D37: Colombia | E37: Colombia | F37: Colombia | G37: COL | I37: Colombia | J37: Colombia | K37: Colombia | L37: COL | X37: FAO 48.2 | Z37: FAO 27.1.a
A38: Dansk | B38: Engelsk | D38: Comorerne | E38: Komorene | F38: Comoros | G38: COM | I38: Comorerne | J38: Komorene | K38: Comoros | L38: COM | X38: FAO 48.3 | Z38: FAO 27.1.b
A39: Vælg | B39: Select | D39: Congo | E39: Kongo | F39: Congo | G39: COG | I39: Congo | J39: Kongo | K39: Congo | L39: COG | X39: FAO 48.4 | Z39: FAO 27.10.a
A40: Pr. 100 g | B40: Per 100 g | D40: Costa Rica | E40: Costa Rica | F40: Costa Rica | G40: CRI | I40: Costa Rica | J40: Costa Rica | K40: Costa Rica | L40: CRI | X40: FAO 48.5 | Z40: FAO 27.10.b
...

Sheet Data
A1: DK | F1: Start | T1: Varebetegnelse og nettoindhold | AJ1: Forarbejdning | BE1: Lande | IW1: Recept | TB1: Særlige ingrediensspecifikationer | UQ1: Næringsdeklaration | VM1: Holdbarhed og opbevaring | WS1: Pakkemetode og tilberedning | WW1: Anprisninger | DRO1: Bilag I | DTG1: Kød | DUE1: Mælk/ost | DUL1: Æg | DUQ1: Chokolade | DVJ1: Fisk og fiskeprodukter | DWG1: Juice | DWM1: Kaffe | DWT1: Te
