Workbook

Sheet Drop down
A1: Ja/Nej | B1: Engelsk oversættelse | D1: Lande
A2: Vælg | B2: Select | D2: Lande (dansk) | E2: Lande (norsk) | F2: Lande (Engelsk) | G2: ISO 3166-1
A3: Ja | B3: Yes | D3: Afghanistan | E3: Afghanistan | F3: Afghanistan | G3: AFG | P3: Sprog
A4: Nej | B4: No | D4: Albanien | E4: Albania | F4: Albania | G4: ALB | P4: Dansk
D5: Algeriet | E5: Algerie | F5: Algeria | G5: DZA
A6: Type af produkt | D6: Andorra | E6: Andorra | F6: Andorra | G6: AND | P6: =IF($P$4="Engelsk","Select","Vælg") -> Vælg
A7: Vælg | B7: Select | D7: Angola | E7: Angola | F7: Angola | G7: AGO | P7: =IF($P$4="Engelsk","Insert","Indsæt") -> Indsæt
A8: Toiletpapir | B8: Toilet paper | D8: Antigua &Barbuda | E8: Antigua og Barbuda | F8: Antigua & Barbuda | G8: ATG | P8: =IF($P$4="Engelsk","Yes","Ja") -> Ja
A9: Køkkenrulle | B9: Kitchen towels | D9: Argentina | E9: Argentina | F9: Argentina | G9: ARG | P9: =IF($P$4="Engelsk","No","Nej") -> Nej
D10: Armenien | E10: Armenia | F10: Armenia | G10: ARM | P10: =IF($P$4="Engelsk","Next","Næste") -> Næste
D11: Aserbajdsjan | E11: Aserbajdsjan | F11: Azerbaijan | G11: AZE | P11: =IF($P$4="Engelsk","Previous","Forrige") -> Forrige
A12: RSPO | D12: Australien | E12: Australia | F12: Australia | G12: AUS | P12: =IF($P$4="Engelsk","All rights to this document belong to Varefakta, and the document may not be copied, reproduced, passed on and / or used without prior written permission from Varefakta. (version 26.1)","Alle rettigheder til dette dokument tilhører Varefakta, og dokumentet må ikke kopieres, gengives, videregives og/eller benyttes uden forudgående skriftlig tilladelse fra Varefakta. (version 26.1)") -> Alle rettigheder til dette dokument tilhører Varefakta, og dokumentet må ikke kopieres, gengives, videregives og/eller benyttes uden forudgående skriftlig tilladelse fra Varefakta. (version 26.1)
A13: Vælg | B13: Select | D13: Bahamas | E13: Bahamas | F13: Bahamas | G13: BHS
A14: IP | B14: IP | D14: Bahrain | E14: Bahrain | F14: Bahrain | G14: BHR
A15: SG | B15: SG | D15: Bangladesh | E15: Bangladesh | F15: Bangladesh | G15: BGD
A16: MB | B16: MB | D16: Barbados | E16: Barbados | F16: Barbados | G16: BRB
D17: Belgien | E17: Belgia | F17: Belgium | G17: BEL
D18: Belize | E18: Belize | F18: Belize | G18: BLZ
D19: Benin | E19: Benin | F19: Benin | G19: BEN
D20: Bhutan | E20: Bhutan | F20: Bhutan | G20: BTN
D21: Bolivia | E21: Bolivia | F21: Bolivia | G21: BOL
A22: FSC | D22: Bosnien-Herzegovina | E22: Bosnia og Herzegovina | F22: Bosnia and Herzegovina | G22: BIH
A23: Vælg | B23: Select | D23: Botswana | E23: Botswana | F23: Botswana | G23: BWA
A24: Mix | B24: Mix | D24: Brasilien | E24: Brasil | F24: Brazil | G24: BRA
A25: Recycled | B25: Recycled | D25: Brunei | E25: Brunei | F25: Brunei | G25: BRN
A26: 100 % | B26: 100 % | D26: Bulgarien | E26: Bulgaria | F26: Bulgaria | G26: BGR
D27: Burkina Faso | E27: Burkina Faso | F27: Burkina Faso | G27: BFA
A28: Kategoriansvarlig | D28: Burma (Myanmar) | E28: Burma (Myanmar) | F28: Burma (Myanmar) | G28: MMR
D29: Burundi | E29: Burundi | F29: Burundi | G29: BDI
A30: Dansk | B30: Engelsk | D30: Cambodja | E30: Kambodsja | F30: Cambodia | G30: KHM
A31: Vælg | B31: Select | D31: Cameroun | E31: Kamerun | F31: Cameroon | G31: CMR
A32: Jonas Garly Sørensen | B32: Jonas Garly Sørensen | D32: Canada | E32: Canada | F32: Canada | G32: CAN
A33: Christina Burgsø Martens | B33: Christina Burgsø Martens | D33: Centralafrika | E33: Sentral-Afrika | F33: Central Africa | G33: CAF
A34: Lasse Lindner | B34: Lasse Lindner | D34: Chad | E34: Tsjad | F34: Chad | G34: TCD
A35: Torben Lund | B35: Torben Lund | D35: Chile | E35: Chile | F35: Chile | G35: CHL
A36: Rikke Witting Thomsen | B36: Rikke Witting Thomsen | D36: Colombia | E36: Colombia | F36: Colombia | G36: COL
A37: Jeppe Løkke Henriksen | B37: Jeppe Løkke Henriksen | D37: Comorerne | E37: Komorene | F37: Comoros | G37: COM
A38: Lone Holst Andersen | B38: Lone Holst Andersen | D38: Congo | E38: Kongo | F38: Congo | G38: COG
A39: Tina Jensen | B39: Tina Jensen | D39: Costa Rica | E39: Costa Rica | F39: Costa Rica | G39: CRI
D40: Cuba | E40: Cuba | F40: Cuba | G40: CUB
...

Sheet Data
B2: GTIN nummer | C2: REMA 1000 Varenr. | D2: VK nummer | E2: Kategoriansvarlig | F2: Husholdningstekstiler og Rengørinssvampe | G2: Plastposer | H2: kosmetik | I2: Vask og rengøring | J2: bleer | K2: levende lys | L2: Alufolie, bagepapir og madpakkepapir | M2: papirdug | N2: vat og vatpinde | O2: hygiejnebind og trusseindlæg | P2: ammeindlæg | Q2: plastvarer | R2: toiletpapir og køkkenrulle | S2: kattegrus | T2: grillkul, briketter og tændblokke | U2: børster | V2: engangsservice og bestik | W2: narresutter | X2: sutteflasker | Y2: Kaffe- og tefiltre til engangsbrug | Z2: Børnebestik | AA2: Varenavn | AB2: Firma (leverandør) | AC2: Adresse (leverandør) | AD2: Kontaktperson (leverandør) | AE2: Firma (producent) | AF2: Adresse (producent) | AG2: Kontaktperson (producent) | AH2: Produktionsland | AI2: Petrokemiske råvarer | AJ2: Hvilke typer petrokemiske råvarer? | AK2: Stoffer fra kandidatlisten | AL2: Hvilke stoffer fra kandidatlisten? | AM2: Bomuld | AN2: Er bomulden økologisk? | AO2: Bomuld oprindelse | AP2: Certifikat fremsendt | AQ2: Brugsanvisning | AR2: Advarsel/anvendelsesbegrænsninger | AS2: Råd | AT2: Svanemærket | AU2: Licensnr (svanemærket) | AV2: Certifikat fremsendt (svanemærket) | AW2: EU-blomsten | AX2: Licensnr (EU-blomsten) | AY2: Certifikat fremsendt (EU-blomsten) | AZ2: Astma & Allergi | BA2: Hvilket (astma&allergi) | BB2: Allergy certified | BC2: Palme- og palmekerneolie | BD2: Ingedienser (palmeolie) | BE2: RSPO | BF2: IP, SG, MB | BG2: Licensnr (RSPO) | BH2: Certifikat (RSPO) | BI2: Vegan | BJ2: Hvilket (vegan) | BK2: FSC | BL2: Type af certifikat (FSC) | BM2: Licensnr (FSC) | BN2: Certifikat (FSC) | BO2: Ecocert | BP2: Hvilket (ecocert) | BQ2: SUP | BR2: Materiale 1 | BS2: Materiale 2 | BT2: Materiale 3 | BU2: Materiale 4 | BV2: Materiale 5 | BW2: Materiale 6 | BX2: Materiale 7 | BY2: Materiale 8 | BZ2: Materiale 9 | CA2: Materiale 10 | CB2: Materiale 11 | CC2: Materiale 12 | CD2: Materiale 13 | CE2: Materiale 14 | CF2: Materiale 15 | CG2: Materiale 16 | CH2: Materiale 17 | CI2: Materiale 18 | CJ2: Materiale 19 | CK2: Materiale 20 | CL2: Materiale 21 | CM2: Materiale 22 | CN2: Materiale 23 | CO2: Materiale 24 | CP2: Materiale 25 | CQ2: Materiale 26 | CR2: Materiale 27 | CS2: Materiale 28 | CT2: Materiale 29 | CU2: Materiale 30 | CV2: Materiale 31 | CW2: Materiale 32 | CX2: Materiale 33 | CY2: Materiale 34 | CZ2: Materiale 35 | DA2: Materiale 36 | DB2: Materiale 37 | DC2: Materiale 38 | DD2: Materiale 39 | DE2: Materiale 40 | DF2: Materiale 41 | DG2: Materiale 42 | DH2: Materiale 43 | DI2: Materiale 44 | DJ2: Materiale 45 | DK2: Materiale 46 | DL2: Materiale 47 | DM2: Materiale 48 | DN2: Materiale 49 | DO2: Materiale 50 | DP2: Ingrediens 1 | DQ2: Ingrediens 2 | DR2: Ingrediens 3 | DS2: Ingrediens 4 | DT2: Ingrediens 5 | DU2: Ingrediens 6 | DV2: Ingrediens 7 | DW2: Ingrediens 8 | DX2: Ingrediens 9 | DY2: Ingrediens 10 | DZ2: Ingrediens 11 | EA2: Ingrediens 12 | EB2: Ingrediens 13 | EC2: Ingrediens 14 | ED2: Ingrediens 15 | EE2: Ingrediens 16 | EF2: Ingrediens 17 | EG2: Ingrediens 18 | EH2: Ingrediens 19 | EI2: Ingrediens 20 | EJ2: Ingrediens 21 | EK2: Ingrediens 22 | EL2: Ingrediens 23 | EM2: Ingrediens 24 | EN2: Ingrediens 25 | EO2: Ingrediens 26 | EP2: Ingrediens 27 | EQ2: Ingrediens 28 | ER2: Ingrediens 29 | ES2: Ingrediens 30 | ET2: Ingrediens 31 | EU2: Ingrediens 32 | EV2: Ingrediens 33 | EW2: Ingrediens 34 | EX2: Ingrediens 35 | EY2: Ingrediens 36 | EZ2: Ingrediens 37 | FA2: Ingrediens 38 | FB2: Ingrediens 39 | FC2: Ingrediens 40 | FD2: Ingrediens 41 | FE2: Ingrediens 42 | FF2: Ingrediens 43 | FG2: Ingrediens 44 | FH2: Ingrediens 45 | FI2: Ingrediens 46 | FJ2: Ingrediens 47 | FK2: Ingrediens 48 | FL2: Ingrediens 49 | FM2: Ingrediens 50 | FN2: Afghanistan | FO2: Albanien | FP2: Algeriet | FQ2: Andorra | FR2: Angola | FS2: Antigua &Barbuda | FT2: Argentina | FU2: Armenien | FV2: Aserbajdsjan | FW2: Australien | FX2: Bahamas | FY2: Bahrain | FZ2: Bangladesh | GA2: Barbados | GB2: Belgien | GC2: Belize | GD2: Benin | GE2: Bhutan | GF2: Bolivia | GG2: Bosnien-Herzegovina | GH2: Botswana | GI2: Brasilien | GJ2: Brunei | GK2: Bulgarien | GL2: Burkina Faso | GM2: Burma (Myanmar) | GN2: Burundi | GO2: Cambodja | GP2: Cameroun | GQ2: Canada | GR2: Centralafrika | GS2: Chad | GT2: Chile | GU2: Colombia | GV2: Comorerne | GW2: Congo | GX2: Costa Rica | GY2: Cuba | GZ2: Cypern | HA2: Danmark | HB2: Darussalem | HC2: Demokratiske rep. Congo | HD2: Djibouti | HE2: Dominica | HF2: Dominikanske Republik | HG2: Ecuador | HH2: Egypten | HI2: El Salvador | HJ2: Elfenbens- kysten | HK2: Eritrea | HL2: Estland | HM2: Etiopien | HN2: Fiji | HO2: Filippinerne | HP2: Finland | HQ2: Forenede Arab. Emirater | HR2: Frankrig | HS2: Gabon | HT2: Gambia | HU2: Georgien | HV2: Ghana | HW2: Grenada | HX2: Grenadinerne | HY2: Grækenland | HZ2: Guatemala | IA2: Guinea | IB2: Guinea-Bissau | IC2: Guyana | ID2: Haiti | IE2: Honduras | IF2: Hviderusland (Belarus) | IG2: Indien | IH2: Indonesien | II2: Irak | IJ2: Iran | IK2: Irland | IL2: Island | IM2: Israel | IN2: Italien | IO2: Jamaica | IP2: Japan | IQ2: Jordan | IR2: Kapverdiske Øer | IS2: Kasakhstan | IT2: Kenya | IU2: Kina | IV2: Kirgisistan | IW2: Kiribati | IX2: Kroatien | IY2: Kuwait | IZ2: Laos | JA2: Lesotho | JB2: Letland | JC2: Libanon | JD2: Liberia | JE2: Libyen | JF2: Liechtenstein | JG2: Litauen | JH2: Luxembourg | JI2: Madagaskar | JJ2: Makedonien (FYROM) | JK2: Malawi | JL2: Malaysia | JM2: Maldiverne | JN2: Mali | JO2: Malta | JP2: Marokko | JQ2: Marshall-øerne | JR2: Mauretanien | JS2: Mauritius | JT2: Mexico | JU2: Mikronesien | JV2: Moldova | JW2: Monaco | JX2: Mongoliet | JY2: Mozambique | JZ2: Namibia | KA2: Nauru | KB2: Nederlandene | KC2: Nepal | KD2: New Zealand | KE2: Nicaragua | KF2: Niger | KG2: Nigeria | KH2: Nordkorea | KI2: Norge | KJ2: Oman | KK2: Pakistan | KL2: Palau | KM2: Palestina | KN2: Panama | KO2: Papua New Guinea | KP2: Paraguay | KQ2: Peru | KR2: Polen | KS2: Portugal | KT2: Qatar | KU2: Rumænien | KV2: Rusland | KW2: Rwanda | KX2: Salomonøerne | KY2: Samoa | KZ2: San Marino | LA2: Sao Tomé & Principe | LB2: Saudi Arabien | LC2: Schweiz | LD2: Senegal | LE2: Serbien og Montenegro | LF2: Seychellerne | LG2: Sierra Leone | LH2: Singapore | LI2: Slovakiet | LJ2: Slovenien | LK2: Somalia | LL2: Spanien | LM2: Sri Lanka | LN2: St. Kitts-Nevis | LO2: St. Lucia | LP2: St. Vincent & | LQ2: Storbritannien (England) | LR2: Sudan | LS2: Surinam | LT2: Sverige | LU2: Swaziland | LV2: Sydafrika | LW2: Sydkorea | LX2: Syrien | LY2: Tadjikistan | LZ2: Taiwan | MA2: Tanzania | MB2: Thailand | MC2: Tjekkiet | MD2: Togo | ME2: Tonga | MF2: Trinidad & Tobago | MG2: Tunesien | MH2: Turkmenistan | MI2: Tuvalu | MJ2: Tyrkiet | MK2: Tyskland | ML2: Uganda | MM2: Ukraine | MN2: Ungarn | MO2: Uruguay | MP2: USA | MQ2: Usbekistan | MR2: Vanuatu | MS2: Vatikanet | MT2: Venezuela | MU2: Vietnam | MV2: Yemen | MW2: Zambia | MX2: Zimbabwe | MY2: Ækvatorial Guinea | MZ2: Østrig | NA2: Østtimor
B3: =IF(OR(Start!D30="",Start!D30="Indsæt"),"",Start!D30) | C3: =IF(OR(Start!D29="",Start!D29="Indsæt"),"",Start!D29) | D3: =IF(OR(Start!D28="",Start!D28="Indsæt"),"",Start!D28) | E3: =IF(Start!D31<>"Vælg",IFERROR(VLOOKUP(Start!D31,'Drop down'!A32:A39,1,FALSE),""),"") | R3: 1 | AA3: =IF(OR(Start!D13="",Start!D13='Drop down'!$P$7),"",Start!D13) | AB3: =IF(OR(Start!$D$7="",Start!$D$7="Indsæt"),"",Start!$D$7) | AC3: =IF(OR(Start!$D$8="",Start!$D$8="Indsæt"),"",Start!$D$8) | AD3: =IF(OR(Start!$D$9="",Start!$D$9="Indsæt"),"",Start!$D$9) | AE3: =IF(OR(Start!$D$21="",Start!$D$21="Indsæt"),"",Start!$D$21) | AF3: =IF(OR(Start!$D$22="",Start!$D$22="Indsæt"),"",Start!$D$22) | AG3: =IF(OR(Start!$D$23="",Start!$D$23="Indsæt"),"",Start!$D$23) | AH3: =IF(OR(Vareoplysninger!D5="",Vareoplysninger!D5="Indsæt"),"",VLOOKUP(Vareoplysninger!D5,AlleLande[],4,FALSE)) | AI3: =IF('Yderligere vareoplysninger'!D6="Vælg","",IF('Yderligere vareoplysninger'!D6="Nej",0,1)) | AJ3: =IF(OR('Yderligere vareoplysninger'!D8="",'Yderligere vareoplysninger'!D8="Indsæt"),"",'Yderligere vareoplysninger'!D8) | AK3: =IF('Yderligere vareoplysninger'!D10="Vælg","",IF('Yderligere vareoplysninger'!D10="Nej",0,1)) | AL3: =IF(OR('Yderligere vareoplysninger'!D12="",'Yderligere vareoplysninger'!D12="Indsæt"),"",'Yderligere vareoplysninger'!D12) | AQ3: =IF(OR('Brugsanvisning og anvendelse'!D5="",'Brugsanvisning og anvendelse'!D5="Indsæt"),"",'Brugsanvisning og anvendelse'!D5) | AR3: =IF(OR('Brugsanvisning og anvendelse'!D7="",'Brugsanvisning og anvendelse'!D7="Indsæt"),"",'Brugsanvisning og anvendelse'!D7) | AS3: =IF(OR('Brugsanvisning og anvendelse'!D10="",'Brugsanvisning og anvendelse'!D10="Indsæt"),"",'Brugsanvisning og anvendelse'!D10) | AT3: =IF('Andre mærkningsoplysninger'!D5="Vælg","",IF('Andre mærkningsoplysninger'!D5="Nej",0,1)) | AU3: =IF(OR('Andre mærkningsoplysninger'!D6="",'Andre mærkningsoplysninger'!D6="Indsæt"),"",'Andre mærkningsoplysninger'!D6) | AV3: =IF('Andre mærkningsoplysninger'!D7="Vælg","",IF('Andre mærkningsoplysninger'!D7="Nej",0,1)) | AW3: =IF('Andre mærkningsoplysninger'!D9="Vælg","",IF('Andre mærkningsoplysninger'!D9="Nej",0,1)) | AX3: =IF(OR('Andre mærkningsoplysninger'!D10="",'Andre mærkningsoplysninger'!D10="Indsæt"),"",'Andre mærkningsoplysninger'!D10) | AY3: =IF('Andre mærkningsoplysninger'!D11="Vælg","",IF('Andre mærkningsoplysninger'!D11="Nej",0,1)) | AZ3: =IF('Andre mærkningsoplysninger'!D13="Vælg","",IF('Andre mærkningsoplysninger'!D13="Nej",0,1)) | BA3: =IF(OR('Andre mærkningsoplysninger'!D14="",'Andre mærkningsoplysninger'!D14="Indsæt"),"",'Andre mærkningsoplysninger'!D14) | BK3: =IF('Andre mærkningsoplysninger'!D16="Vælg","",IF('Andre mærkningsoplysninger'!D16="Nej",0,1)) | BL3: =IF('Andre mærkningsoplysninger'!D17="Vælg","",'Andre mærkningsoplysninger'!D17) | BM3: =IF(OR('Andre mærkningsoplysninger'!D18="",'Andre mærkningsoplysninger'!D18="Indsæt"),"",'Andre mærkningsoplysninger'!D18) | BN3: =IF('Andre mærkningsoplysninger'!D19="Vælg","",IF('Andre mærkningsoplysninger'!D19="Nej",0,1)) | BR3: =IF(AND(Vareoplysninger!D11<>"",Vareoplysninger!D11<>"Indsæt"),"Nye fibre for papir| "&IF(Vareoplysninger!F11="","",IFERROR(VLOOKUP(Vareoplysninger!F11,AlleLande[],4,FALSE),""))&"| "&IF(Vareoplysninger!G11="","",IFERROR(VLOOKUP(Vareoplysninger!G11,AlleLande[],4,FALSE),""))&"| "&IF(Vareoplysninger!H11="","",IFERROR(VLOOKUP(Vareoplysninger!H11,AlleLande[],4,FALSE),""))&"| "&IF(Vareoplysninger!I11="","",IFERROR(VLOOKUP(Vareoplysninger!I11,AlleLande[],4,FALSE),""))&"| "&IF(Vareoplysninger!J11="","",IFERROR(VLOOKUP(Vareoplysninger!J11,AlleLande[],4,FALSE),"")),"") | BS3: =IF(AND(Vareoplysninger!D12<>"",Vareoplysninger!D12<>"Indsæt"),"Returfibre for papir| "&IF(Vareoplysninger!F12="","",IFERROR(VLOOKUP(Vareoplysninger!F12,AlleLande[],4,FALSE),""))&"| "&IF(Vareoplysninger!G12="","",IFERROR(VLOOKUP(Vareoplysninger!G12,AlleLande[],4,FALSE),""))&"| "&IF(Vareoplysninger!H12="","",IFERROR(VLOOKUP(Vareoplysninger!H12,AlleLande[],4,FALSE),""))&"| "&IF(Vareoplysninger!I12="","",IFERROR(VLOOKUP(Vareoplysninger!I12,AlleLande[],4,FALSE),""))&"| "&IF(Vareoplysninger!J12="","",IFERROR(VLOOKUP(Vareoplysninger!J12,AlleLande[],4,FALSE),"")),"") | BT3: =IF(AND(Vareoplysninger!D16<>"",Vareoplysninger!D16<>"Indsæt"),"Nye fibre for paprulle| "&IF(Vareoplysninger!F16="","",IFERROR(VLOOKUP(Vareoplysninger!F16,AlleLande[],4,FALSE),""))&"| "&IF(Vareoplysninger!G16="","",IFERROR(VLOOKUP(Vareoplysninger!G16,AlleLande[],4,FALSE),""))&"| "&IF(Vareoplysninger!H16="","",IFERROR(VLOOKUP(Vareoplysninger!H16,AlleLande[],4,FALSE),""))&"| "&IF(Vareoplysninger!I16="","",IFERROR(VLOOKUP(Vareoplysninger!I16,AlleLande[],4,FALSE),""))&"| "&IF(Vareoplysninger!J16="","",IFERROR(VLOOKUP(Vareoplysninger!J16,AlleLande[],4,FALSE),"")),"") | BU3: =IF(AND(Vareoplysninger!D17<>"",Vareoplysninger!D17<>"Indsæt"),"Returfibre for paprulle| "&IF(Vareoplysninger!F17="","",IFERROR(VLOOKUP(Vareoplysninger!F17,AlleLande[],4,FALSE),""))&"| "&IF(Vareoplysninger!G17="","",IFERROR(VLOOKUP(Vareoplysninger!G17,AlleLande[],4,FALSE),""))&"| "&IF(Vareoplysninger!H17="","",IFERROR(VLOOKUP(Vareoplysninger!H17,AlleLande[],4,FALSE),""))&"| "&IF(Vareoplysninger!I17="","",IFERROR(VLOOKUP(Vareoplysninger!I17,AlleLande[],4,FALSE),""))&"| "&IF(Vareoplysninger!J17="","",IFERROR(VLOOKUP(Vareoplysninger!J17,AlleLande[],4,FALSE),"")),"") | BV3: =IF(AND(Vareoplysninger!D25<>"",Vareoplysninger!D25<>"Indsæt"),Vareoplysninger!C25&" - "&Vareoplysninger!D25&"| "&IF(Vareoplysninger!F25="","",IFERROR(VLOOKUP(Vareoplysninger!F25,AlleLande[],4,FALSE),""))&"| "&IF(Vareoplysninger!G25="","",IFERROR(VLOOKUP(Vareoplysninger!G25,AlleLande[],4,FALSE),""))&"| "&IF(Vareoplysninger!H25="","",IFERROR(VLOOKUP(Vareoplysninger!H25,AlleLande[],4,FALSE),""))&"| "&IF(Vareoplysninger!I25="","",IFERROR(VLOOKUP(Vareoplysninger!I25,AlleLande[],4,FALSE),""))&"| "&IF(Vareoplysninger!J25="","",IFERROR(VLOOKUP(Vareoplysninger!J25,AlleLande[],4,FALSE),"")),"") | BW3: =IF(AND(Vareoplysninger!D26<>"",Vareoplysninger!D26<>"Indsæt"),Vareoplysninger!C26&" - "&Vareoplysninger!D26&"| "&IF(Vareoplysninger!F26="","",IFERROR(VLOOKUP(Vareoplysninger!F26,AlleLande[],4,FALSE),""))&"| "&IF(Vareoplysninger!G26="","",IFERROR(VLOOKUP(Vareoplysninger!G26,AlleLande[],4,FALSE),""))&"| "&IF(Vareoplysninger!H26="","",IFERROR(VLOOKUP(Vareoplysninger!H26,AlleLande[],4,FALSE),""))&"| "&IF(Vareoplysninger!I26="","",IFERROR(VLOOKUP(Vareoplysninger!I26,AlleLande[],4,FALSE),""))&"| "&IF(Vareoplysninger!J26="","",IFERROR(VLOOKUP(Vareoplysninger!J26,AlleLande[],4,FALSE),"")),"") | BX3: =IF(AND(Vareoplysninger!D27<>"",Vareoplysninger!D27<>"Indsæt"),Vareoplysninger!C27&" - "&Vareoplysninger!D27&"| "&IF(Vareoplysninger!F27="","",IFERROR(VLOOKUP(Vareoplysninger!F27,AlleLande[],4,FALSE),""))&"| "&IF(Vareoplysninger!G27="","",IFERROR(VLOOKUP(Vareoplysninger!G27,AlleLande[],4,FALSE),""))&"| "&IF(Vareoplysninger!H27="","",IFERROR(VLOOKUP(Vareoplysninger!H27,AlleLande[],4,FALSE),""))&"| "&IF(Vareoplysninger!I27="","",IFERROR(VLOOKUP(Vareoplysninger!I27,AlleLande[],4,FALSE),""))&"| "&IF(Vareoplysninger!J27="","",IFERROR(VLOOKUP(Vareoplysninger!J27,AlleLande[],4,FALSE),"")),"") | BY3: =IF(AND(Vareoplysninger!D28<>"",Vareoplysninger!D28<>"Indsæt"),Vareoplysninger!C28&" - "&Vareoplysninger!D28&"| "&IF(Vareoplysninger!F28="","",IFERROR(VLOOKUP(Vareoplysninger!F28,AlleLande[],4,FALSE),""))&"| "&IF(Vareoplysninger!G28="","",IFERROR(VLOOKUP(Vareoplysninger!G28,AlleLande[],4,FALSE),""))&"| "&IF(Vareoplysninger!H28="","",IFERROR(VLOOKUP(Vareoplysninger!H28,AlleLande[],4,FALSE),""))&"| "&IF(Vareoplysninger!I28="","",IFERROR(VLOOKUP(Vareoplysninger!I28,AlleLande[],4,FALSE),""))&"| "&IF(Vareoplysninger!J28="","",IFERROR(VLOOKUP(Vareoplysninger!J28,AlleLande[],4,FALSE),"")),"") | BZ3: =IF(AND(Vareoplysninger!D29<>"",Vareoplysninger!D29<>"Indsæt"),Vareoplysninger!C29&" - "&Vareoplysninger!D29&"| "&IF(Vareoplysninger!F29="","",IFERROR(VLOOKUP(Vareoplysninger!F29,AlleLande[],4,FALSE),""))&"| "&IF(Vareoplysninger!G29="","",IFERROR(VLOOKUP(Vareoplysninger!G29,AlleLande[],4,FALSE),""))&"| "&IF(Vareoplysninger!H29="","",IFERROR(VLOOKUP(Vareoplysninger!H29,AlleLande[],4,FALSE),""))&"| "&IF(Vareoplysninger!I29="","",IFERROR(VLOOKUP(Vareoplysninger!I29,AlleLande[],4,FALSE),""))&"| "&IF(Vareoplysninger!J29="","",IFERROR(VLOOKUP(Vareoplysninger!J29,AlleLande[],4,FALSE),"")),"") | CA3: =IF(AND(Vareoplysninger!D30<>"",Vareoplysninger!D30<>"Indsæt"),Vareoplysninger!C30&" - "&Vareoplysninger!D30&"| "&IF(Vareoplysninger!F30="","",IFERROR(VLOOKUP(Vareoplysninger!F30,AlleLande[],4,FALSE),""))&"| "&IF(Vareoplysninger!G30="","",IFERROR(VLOOKUP(Vareoplysninger!G30,AlleLande[],4,FALSE),""))&"| "&IF(Vareoplysninger!H30="","",IFERROR(VLOOKUP(Vareoplysninger!H30,AlleLande[],4,FALSE),""))&"| "&IF(Vareoplysninger!I30="","",IFERROR(VLOOKUP(Vareoplysninger!I30,AlleLande[],4,FALSE),""))&"| "&IF(Vareoplysninger!J30="","",IFERROR(VLOOKUP(Vareoplysninger!J30,AlleLande[],4,FALSE),"")),"") | CB3: =IF(AND(Vareoplysninger!D31<>"",Vareoplysninger!D31<>"Indsæt"),Vareoplysninger!C31&" - "&Vareoplysninger!D31&"| "&IF(Vareoplysninger!F31="","",IFERROR(VLOOKUP(Vareoplysninger!F31,AlleLande[],4,FALSE),""))&"| "&IF(Vareoplysninger!G31="","",IFERROR(VLOOKUP(Vareoplysninger!G31,AlleLande[],4,FALSE),""))&"| "&IF(Vareoplysninger!H31="","",IFERROR(VLOOKUP(Vareoplysninger!H31,AlleLande[],4,FALSE),""))&"| "&IF(Vareoplysninger!I31="","",IFERROR(VLOOKUP(Vareoplysninger!I31,AlleLande[],4,FALSE),""))&"| "&IF(Vareoplysninger!J31="","",IFERROR(VLOOKUP(Vareoplysninger!J31,AlleLande[],4,FALSE),"")),"") | CC3: =IF(AND(Vareoplysninger!D32<>"",Vareoplysninger!D32<>"Indsæt"),Vareoplysninger!C32&" - "&Vareoplysninger!D32&"| "&IF(Vareoplysninger!F32="","",IFERROR(VLOOKUP(Vareoplysninger!F32,AlleLande[],4,FALSE),""))&"| "&IF(Vareoplysninger!G32="","",IFERROR(VLOOKUP(Vareoplysninger!G32,AlleLande[],4,FALSE),""))&"| "&IF(Vareoplysninger!H32="","",IFERROR(VLOOKUP(Vareoplysninger!H32,AlleLande[],4,FALSE),""))&"| "&IF(Vareoplysninger!I32="","",IFERROR(VLOOKUP(Vareoplysninger!I32,AlleLande[],4,FALSE),""))&"| "&IF(Vareoplysninger!J32="","",IFERROR(VLOOKUP(Vareoplysninger!J32,AlleLande[],4,FALSE),"")),"") | CD3: =IF(AND(Vareoplysninger!D33<>"",Vareoplysninger!D33<>"Indsæt"),Vareoplysninger!C33&" - "&Vareoplysninger!D33&"| "&IF(Vareoplysninger!F33="","",IFERROR(VLOOKUP(Vareoplysninger!F33,AlleLande[],4,FALSE),""))&"| "&IF(Vareoplysninger!G33="","",IFERROR(VLOOKUP(Vareoplysninger!G33,AlleLande[],4,FALSE),""))&"| "&IF(Vareoplysninger!H33="","",IFERROR(VLOOKUP(Vareoplysninger!H33,AlleLande[],4,FALSE),""))&"| "&IF(Vareoplysninger!I33="","",IFERROR(VLOOKUP(Vareoplysninger!I33,AlleLande[],4,FALSE),""))&"| "&IF(Vareoplysninger!J33="","",IFERROR(VLOOKUP(Vareoplysninger!J33,AlleLande[],4,FALSE),"")),"") | CE3: =IF(AND(Vareoplysninger!D34<>"",Vareoplysninger!D34<>"Indsæt"),Vareoplysninger!C34&" - "&Vareoplysninger!D34&"| "&IF(Vareoplysninger!F34="","",IFERROR(VLOOKUP(Vareoplysninger!F34,AlleLande[],4,FALSE),""))&"| "&IF(Vareoplysninger!G34="","",IFERROR(VLOOKUP(Vareoplysninger!G34,AlleLande[],4,FALSE),""))&"| "&IF(Vareoplysninger!H34="","",IFERROR(VLOOKUP(Vareoplysninger!H34,AlleLande[],4,FALSE),""))&"| "&IF(Vareoplysninger!I34="","",IFERROR(VLOOKUP(Vareoplysninger!I34,AlleLande[],4,FALSE),""))&"| "&IF(Vareoplysninger!J34="","",IFERROR(VLOOKUP(Vareoplysninger!J34,AlleLande[],4,FALSE),"")),"") | CF3: =IF(AND(Vareoplysninger!D35<>"",Vareoplysninger!D35<>"Indsæt"),Vareoplysninger!C35&" - "&Vareoplysninger!D35&"| "&IF(Vareoplysninger!F35="","",IFERROR(VLOOKUP(Vareoplysninger!F35,AlleLande[],4,FALSE),""))&"| "&IF(Vareoplysninger!G35="","",IFERROR(VLOOKUP(Vareoplysninger!G35,AlleLande[],4,FALSE),""))&"| "&IF(Vareoplysninger!H35="","",IFERROR(VLOOKUP(Vareoplysninger!H35,AlleLande[],4,FALSE),""))&"| "&IF(Vareoplysninger!I35="","",IFERROR(VLOOKUP(Vareoplysninger!I35,AlleLande[],4,FALSE),""))&"| "&IF(Vareoplysninger!J35="","",IFERROR(VLOOKUP(Vareoplysninger!J35,AlleLande[],4,FALSE),"")),"") | CG3: =IF(AND(Vareoplysninger!D36<>"",Vareoplysninger!D36<>"Indsæt"),Vareoplysninger!C36&" - "&Vareoplysninger!D36&"| "&IF(Vareoplysninger!F36="","",IFERROR(VLOOKUP(Vareoplysninger!F36,AlleLande[],4,FALSE),""))&"| "&IF(Vareoplysninger!G36="","",IFERROR(VLOOKUP(Vareoplysninger!G36,AlleLande[],4,FALSE),""))&"| "&IF(Vareoplysninger!H36="","",IFERROR(VLOOKUP(Vareoplysninger!H36,AlleLande[],4,FALSE),""))&"| "&IF(Vareoplysninger!I36="","",IFERROR(VLOOKUP(Vareoplysninger!I36,AlleLande[],4,FALSE),""))&"| "&IF(Vareoplysninger!J36="","",IFERROR(VLOOKUP(Vareoplysninger!J36,AlleLande[],4,FALSE),"")),"") | FN3: =IF(IFERROR(MATCH(FN2,Vareoplysninger!$F$11:$F$12,0),0)+IFERROR(MATCH(FN2,Vareoplysninger!$G$11:$G$12,0),0)+IFERROR(MATCH(FN2,Vareoplysninger!$H$11:$H$12,0),0)+IFERROR(MATCH(FN2,Vareoplysninger!$I$11:$I$12,0),0)+IFERROR(MATCH(FN2,Vareoplysninger!$J$11:$J$12,0),0)+IFERROR(MATCH(FN2,Vareoplysninger!$F$16:$F$17,0),0)+IFERROR(MATCH(FN2,Vareoplysninger!$G$16:$G$17,0),0)+IFERROR(MATCH(FN2,Vareoplysninger!$H$16:$H$17,0),0)+IFERROR(MATCH(FN2,Vareoplysninger!$I$16:$I$17,0),0)+IFERROR(MATCH(FN2,Vareoplysninger!$J$16:$J$17,0),0)+IFERROR(MATCH(FN2,Vareoplysninger!$F$25:$F$36,0),0)+IFERROR(MATCH(FN2,Vareoplysninger!$G$25:$G$36,0),0)+IFERROR(MATCH(FN2,Vareoplysninger!$H$25:$H$36,0),0)+IFERROR(MATCH(FN2,Vareoplysninger!$I$25:$I$36,0),0)+IFERROR(MATCH(FN2,Vareoplysninger!$J$25:$J$36,0),0)>=1,1,0) -> 0 | FO3: =IF(IFERROR(MATCH(FO2,Vareoplysninger!$F$11:$F$12,0),0)+IFERROR(MATCH(FO2,Vareoplysninger!$G$11:$G$12,0),0)+IFERROR(MATCH(FO2,Vareoplysninger!$H$11:$H$12,0),0)+IFERROR(MATCH(FO2,Vareoplysninger!$I$11:$I$12,0),0)+IFERROR(MATCH(FO2,Vareoplysninger!$J$11:$J$12,0),0)+IFERROR(MATCH(FO2,Vareoplysninger!$F$16:$F$17,0),0)+IFERROR(MATCH(FO2,Vareoplysninger!$G$16:$G$17,0),0)+IFERROR(MATCH(FO2,Vareoplysninger!$H$16:$H$17,0),0)+IFERROR(MATCH(FO2,Vareoplysninger!$I$16:$I$17,0),0)+IFERROR(MATCH(FO2,Vareoplysninger!$J$16:$J$17,0),0)+IFERROR(MATCH(FO2,Vareoplysninger!$F$25:$F$36,0),0)+IFERROR(MATCH(FO2,Vareoplysninger!$G$25:$G$36,0),0)+IFERROR(MATCH(FO2,Vareoplysninger!$H$25:$H$36,0),0)+IFERROR(MATCH(FO2,Vareoplysninger!$I$25:$I$36,0),0)+IFERROR(MATCH(FO2,Vareoplysninger!$J$25:$J$36,0),0)>=1,1,0) -> 0 | FP3: =IF(IFERROR(MATCH(FP2,Vareoplysninger!$F$11:$F$12,0),0)+IFERROR(MATCH(FP2,Vareoplysninger!$G$11:$G$12,0),0)+IFERROR(MATCH(FP2,Vareoplysninger!$H$11:$H$12,0),0)+IFERROR(MATCH(FP2,Vareoplysninger!$I$11:$I$12,0),0)+IFERROR(MATCH(FP2,Vareoplysninger!$J$11:$J$12,0),0)+IFERROR(MATCH(FP2,Vareoplysninger!$F$16:$F$17,0),0)+IFERROR(MATCH(FP2,Vareoplysninger!$G$16:$G$17,0),0)+IFERROR(MATCH(FP2,Vareoplysninger!$H$16:$H$17,0),0)+IFERROR(MATCH(FP2,Vareoplysninger!$I$16:$I$17,0),0)+IFERROR(MATCH(FP2,Vareoplysninger!$J$16:$J$17,0),0)+IFERROR(MATCH(FP2,Vareoplysninger!$F$25:$F$36,0),0)+IFERROR(MATCH(FP2,Vareoplysninger!$G$25:$G$36,0),0)+IFERROR(MATCH(FP2,Vareoplysninger!$H$25:$H$36,0),0)+IFERROR(MATCH(FP2,Vareoplysninger!$I$25:$I$36,0),0)+IFERROR(MATCH(FP2,Vareoplysninger!$J$25:$J$36,0),0)>=1,1,0) -> 0 | FQ3: =IF(IFERROR(MATCH(FQ2,Vareoplysninger!$F$11:$F$12,0),0)+IFERROR(MATCH(FQ2,Vareoplysninger!$G$11:$G$12,0),0)+IFERROR(MATCH(FQ2,Vareoplysninger!$H$11:$H$12,0),0)+IFERROR(MATCH(FQ2,Vareoplysninger!$I$11:$I$12,0),0)+IFERROR(MATCH(FQ2,Vareoplysninger!$J$11:$J$12,0),0)+IFERROR(MATCH(FQ2,Vareoplysninger!$F$16:$F$17,0),0)+IFERROR(MATCH(FQ2,Vareoplysninger!$G$16:$G$17,0),0)+IFERROR(MATCH(FQ2,Vareoplysninger!$H$16:$H$17,0),0)+IFERROR(MATCH(FQ2,Vareoplysninger!$I$16:$I$17,0),0)+IFERROR(MATCH(FQ2,Vareoplysninger!$J$16:$J$17,0),0)+IFERROR(MATCH(FQ2,Vareoplysninger!$F$25:$F$36,0),0)+IFERROR(MATCH(FQ2,Vareoplysninger!$G$25:$G$36,0),0)+IFERROR(MATCH(FQ2,Vareoplysninger!$H$25:$H$36,0),0)+IFERROR(MATCH(FQ2,Vareoplysninger!$I$25:$I$36,0),0)+IFERROR(MATCH(FQ2,Vareoplysninger!$J$25:$J$36,0),0)>=1,1,0) -> 0 | FR3: =IF(IFERROR(MATCH(FR2,Vareoplysninger!$F$11:$F$12,0),0)+IFERROR(MATCH(FR2,Vareoplysninger!$G$11:$G$12,0),0)+IFERROR(MATCH(FR2,Vareoplysninger!$H$11:$H$12,0),0)+IFERROR(MATCH(FR2,Vareoplysninger!$I$11:$I$12,0),0)+IFERROR(MATCH(FR2,Vareoplysninger!$J$11:$J$12,0),0)+IFERROR(MATCH(FR2,Vareoplysninger!$F$16:$F$17,0),0)+IFERROR(MATCH(FR2,Vareoplysninger!$G$16:$G$17,0),0)+IFERROR(MATCH(FR2,Vareoplysninger!$H$16:$H$17,0),0)+IFERROR(MATCH(FR2,Vareoplysninger!$I$16:$I$17,0),0)+IFERROR(MATCH(FR2,Vareoplysninger!$J$16:$J$17,0),0)+IFERROR(MATCH(FR2,Vareoplysninger!$F$25:$F$36,0),0)+IFERROR(MATCH(FR2,Vareoplysninger!$G$25:$G$36,0),0)+IFERROR(MATCH(FR2,Vareoplysninger!$H$25:$H$36,0),0)+IFERROR(MATCH(FR2,Vareoplysninger!$I$25:$I$36,0),0)+IFERROR(MATCH(FR2,Vareoplysninger!$J$25:$J$36,0),0)>=1,1,0) -> 0 | FS3: =IF(IFERROR(MATCH(FS2,Vareoplysninger!$F$11:$F$12,0),0)+IFERROR(MATCH(FS2,Vareoplysninger!$G$11:$G$12,0),0)+IFERROR(MATCH(FS2,Vareoplysninger!$H$11:$H$12,0),0)+IFERROR(MATCH(FS2,Vareoplysninger!$I$11:$I$12,0),0)+IFERROR(MATCH(FS2,Vareoplysninger!$J$11:$J$12,0),0)+IFERROR(MATCH(FS2,Vareoplysninger!$F$16:$F$17,0),0)+IFERROR(MATCH(FS2,Vareoplysninger!$G$16:$G$17,0),0)+IFERROR(MATCH(FS2,Vareoplysninger!$H$16:$H$17,0),0)+IFERROR(MATCH(FS2,Vareoplysninger!$I$16:$I$17,0),0)+IFERROR(MATCH(FS2,Vareoplysninger!$J$16:$J$17,0),0)+IFERROR(MATCH(FS2,Vareoplysninger!$F$25:$F$36,0),0)+IFERROR(MATCH(FS2,Vareoplysninger!$G$25:$G$36,0),0)+IFERROR(MATCH(FS2,Vareoplysninger!$H$25:$H$36,0),0)+IFERROR(MATCH(FS2,Vareoplysninger!$I$25:$I$36,0),0)+IFERROR(MATCH(FS2,Vareoplysninger!$J$25:$J$36,0),0)>=1,1,0) -> 0 | FT3: =IF(IFERROR(MATCH(FT2,Vareoplysninger!$F$11:$F$12,0),0)+IFERROR(MATCH(FT2,Vareoplysninger!$G$11:$G$12,0),0)+IFERROR(MATCH(FT2,Vareoplysninger!$H$11:$H$12,0),0)+IFERROR(MATCH(FT2,Vareoplysninger!$I$11:$I$12,0),0)+IFERROR(MATCH(FT2,Vareoplysninger!$J$11:$J$12,0),0)+IFERROR(MATCH(FT2,Vareoplysninger!$F$16:$F$17,0),0)+IFERROR(MATCH(FT2,Vareoplysninger!$G$16:$G$17,0),0)+IFERROR(MATCH(FT2,Vareoplysninger!$H$16:$H$17,0),0)+IFERROR(MATCH(FT2,Vareoplysninger!$I$16:$I$17,0),0)+IFERROR(MATCH(FT2,Vareoplysninger!$J$16:$J$17,0),0)+IFERROR(MATCH(FT2,Vareoplysninger!$F$25:$F$36,0),0)+IFERROR(MATCH(FT2,Vareoplysninger!$G$25:$G$36,0),0)+IFERROR(MATCH(FT2,Vareoplysninger!$H$25:$H$36,0),0)+IFERROR(MATCH(FT2,Vareoplysninger!$I$25:$I$36,0),0)+IFERROR(MATCH(FT2,Vareoplysninger!$J$25:$J$36,0),0)>=1,1,0) -> 0 | FU3: =IF(IFERROR(MATCH(FU2,Vareoplysninger!$F$11:$F$12,0),0)+IFERROR(MATCH(FU2,Vareoplysninger!$G$11:$G$12,0),0)+IFERROR(MATCH(FU2,Vareoplysninger!$H$11:$H$12,0),0)+IFERROR(MATCH(FU2,Vareoplysninger!$I$11:$I$12,0),0)+IFERROR(MATCH(FU2,Vareoplysninger!$J$11:$J$12,0),0)+IFERROR(MATCH(FU2,Vareoplysninger!$F$16:$F$17,0),0)+IFERROR(MATCH(FU2,Vareoplysninger!$G$16:$G$17,0),0)+IFERROR(MATCH(FU2,Vareoplysninger!$H$16:$H$17,0),0)+IFERROR(MATCH(FU2,Vareoplysninger!$I$16:$I$17,0),0)+IFERROR(MATCH(FU2,Vareoplysninger!$J$16:$J$17,0),0)+IFERROR(MATCH(FU2,Vareoplysninger!$F$25:$F$36,0),0)+IFERROR(MATCH(FU2,Vareoplysninger!$G$25:$G$36,0),0)+IFERROR(MATCH(FU2,Vareoplysninger!$H$25:$H$36,0),0)+IFERROR(MATCH(FU2,Vareoplysninger!$I$25:$I$36,0),0)+IFERROR(MATCH(FU2,Vareoplysninger!$J$25:$J$36,0),0)>=1,1,0) -> 0 | ... NA3: =IF(IFERROR(MATCH(NA2,Vareoplysninger!$F$11:$F$12,0),0)+IFERROR(MATCH(NA2,Vareoplysninger!$G$11:$G$12,0),0)+IFERROR(MATCH(NA2,Vareoplysninger!$H$11:$H$12,0),0)+IFERROR(MATCH(NA2,Vareoplysninger!$I$11:$I$12,0),0)+IFERROR(MATCH(NA2,Vareoplysninger!$J$11:$J$12,0),0)+IFERROR(MATCH(NA2,Vareoplysninger!$F$16:$F$17,0),0)+IFERROR(MATCH(NA2,Vareoplysninger!$G$16:$G$17,0),0)+IFERROR(MATCH(NA2,Vareoplysninger!$H$16:$H$17,0),0)+IFERROR(MATCH(NA2,Vareoplysninger!$I$16:$I$17,0),0)+IFERROR(MATCH(NA2,Vareoplysninger!$J$16:$J$17,0),0)+IFERROR(MATCH(NA2,Vareoplysninger!$F$25:$F$36,0),0)+IFERROR(MATCH(NA2,Vareoplysninger!$G$25:$G$36,0),0)+IFERROR(MATCH(NA2,Vareoplysninger!$H$25:$H$36,0),0)+IFERROR(MATCH(NA2,Vareoplysninger!$I$25:$I$36,0),0)+IFERROR(MATCH(NA2,Vareoplysninger!$J$25:$J$36,0),0)>=1,1,0) -> 0

Sheet Start
B1: ='Drop down'!P12 -> Alle rettigheder til dette dokument tilhører Varefakta, og dokumentet må ikke kopieres, gengives, videregives og/eller benyttes uden forudgående skriftlig tilladelse fra Varefakta. (version 26.1)
C3: Varefakta Nonfood
C4: Specifikationsskema for toiletpapir og køkkenruller [F6210:3] | L4: INDHOLD (KLIK FOR AT VÆLGE)
L5: Start
C6: Leverandør | L6: Vareoplysninger
C7: Firma: | D7: Indsæt | L7: Yderligere vareoplysninger
C8: Adresse: | D8: Indsæt | L8: Brugsanvisning og anvendelse
C9: Kontaktperson: | D9: Indsæt | L9: Andre mærkningsoplysninger
C10: Telefon: | D10: Indsæt
C11: E-mail: | D11: Indsæt
C13: Varenavn: | D13: Indsæt
C14: Varebetegnelse: | D14: Indsæt
C16: Ny vare hos Varefakta: | D16: Vælg
C17: Eksisterende vare hos Varefakta: | D17: Vælg | E17: VK-nummer: | F17: Indsæt
C18: Evt. varenummer: | D18: Indsæt
C20: Producent
C21: Firma: | D21: Indsæt
C22: Producentens adresse: | D22: Indsæt
C23: Kontaktperson: | D23: Indsæt
C24: Telefon: | D24: Indsæt
C25: E-mail: | D25: Indsæt
C27: Udfyldes af Varefakta
C28: VK nummer: | D28: Indsæt
C29: REMA 1000 varenummer: | D29: Indsæt
C30: GTIN nummer: | D30: Indsæt
C31: Kategoriansvarlig: | D31: Vælg
G33: Næste

Sheet Vareoplysninger
B1: ='Drop down'!P12 -> Alle rettigheder til dette dokument tilhører Varefakta, og dokumentet må ikke kopieres, gengives, videregives og/eller benyttes uden forudgående skriftlig tilladelse fra Varefakta. (version 26.1)
C3: Vareoplysninger
N4: INDHOLD (KLIK FOR VÆLGE)
C5: Produktionsland: (Søg i cellen) | N5: Start
N6: Vareoplysninger
C7: Type: | D7: Vælg | N7: Yderligere vareoplysninger
N8: Brugsanvisning og anvendelse
F9: Oprindelse (søg i celler) | N9: Andre mærkningsoplysninger
C10: Fiberdeklaration for papir | D10: Mængde (%) | F10: Land 1 | G10: land 2 | H10: Land 3 | I10: Land 4 | J10: Land 5
C11: Nye fibre (%) | D11: Indsæt
C12: Returfibre (afskær fra ny papirmasse) (%) | D12: Indsæt
F14: Oprindelse (søg i celler)
C15: Fiberdeklaration for paprulle | D15: Mængde (%) | F15: Land 1 | G15: land 2 | H15: Land 3 | I15: Land 4 | J15: Land 5
C16: Nye fibre (%) | D16: Indsæt
C17: Returfibre (afskær fra ny papirmasse) (%) | D17: Indsæt
C19: Blegning
C20: Er produktet bleget | D20: Vælg
C21: Hvis ja, angiv hvordan (fx ECF, TCF): | D21: Indsæt
F23: Oprindelse (søg i celler)
C24: Tilsætningsstoffer | D24: Kemisk navn evt. CAS-nummer: | F24: Land 1 | G24: land 2 | H24: Land 3 | I24: Land 4 | J24: Land 5
C25: Tilsat/påtrykt farve 1 | D25: Indsæt
C26: Tilsat/påtrykt farve 2 | D26: Indsæt
C27: Tilsat/påtrykt farve 3 | D27: Indsæt
C28: Tilsat optisk hvid 1 | D28: Indsæt
C29: Tilsat optisk hvid 2 | D29: Indsæt
C30: Tilsat optisk hvid 3 | D30: Indsæt
C31: Coating 1 | D31: Indsæt
C32: Coating 2 | D32: Indsæt
C33: Coating 3 | D33: Indsæt
C34: Tilsat vådstyrkemiddel 1 | D34: Indsæt
C35: Tilsat vådstyrkemiddel 2 | D35: Indsæt
C36: Tilsat vådstyrkemiddel 3 | D36: Indsæt
C38: Fødevarekontakt
C39: Kan produktet anvendes til fødevarer | D39: Vælg
C40: Hvis ja, skal der foreligge en gældende overensstemmelseserklæring på produktet, der ikke er mere end 1 år gammelt. Bekræft at denne er fremsendt. | D40: Vælg
C41: Opfylder produktet kravene i Empfehlung xxxvi BFR? | D41: Vælg
C43: Mål og vægt
C44: Længde i cm: | D44: Indsæt
C45: Længde i m (angiv med en decimal): | D45: Indsæt
C46: Bekræft at der er fremsendt dokumentation: | D46: Vælg
...

Sheet Yderligere vareoplysninger
B1: ='Drop down'!P12 -> Alle rettigheder til dette dokument tilhører Varefakta, og dokumentet må ikke kopieres, gengives, videregives og/eller benyttes uden forudgående skriftlig tilladelse fra Varefakta. (version 26.1)
C3: Yderligere vareoplysninger
L4: INDHOLD (KLIK FOR AT VÆLGE)
L5: Start
C6: Indeholder produktet råvarer med petrokemisk oprindelse: | D6: Vælg | L6: Vareoplysninger
L7: Yderligere vareoplysninger
C8: Hvis ja, hvilke: | D8: Indsæt | L8: Brugsanvisning og anvendelse
L9: Andre mærkningsoplysninger
C10: Indeholder produktet eller emballage stoffer som står på kandidatlisten i EU's REACH-forordning | D10: Vælg
C12: Hvis ja, hvilke: | D12: Indsæt
C14: Forrige | G14: Næste

Sheet Brugsanvisning og anvendelse
B1: ='Drop down'!P12 -> Alle rettigheder til dette dokument tilhører Varefakta, og dokumentet må ikke kopieres, gengives, videregives og/eller benyttes uden forudgående skriftlig tilladelse fra Varefakta. (version 26.1)
C3: Brugsanvisning og anvendelse
L4: INDHOLD (KLIK FOR AT VÆLGE)
C5: Brugsanvisning (hvis relevant): | D5: Indsæt | L5: Start
L6: Vareoplysninger
C7: Advarsler/anvendelsesbegrænsninger (hvis relevant): | D7: Indsæt | L7: Yderligere vareoplysninger
L8: Brugsanvisning og anvendelse
L9: Andre mærkningsoplysninger
C10: Råd (hvis relevant): | D10: Indsæt
C12: Andet: | D12: Indsæt
C14: Forrige | G14: Næste

Sheet Andre mærkningsoplysninger
B1: ='Drop down'!P12 -> Alle rettigheder til dette dokument tilhører Varefakta, og dokumentet må ikke kopieres, gengives, videregives og/eller benyttes uden forudgående skriftlig tilladelse fra Varefakta. (version 26.1)
C3: Andre mærkningsoplysninger
L4: INDHOLD (KLIK FOR AT VÆLGE)
C5: Svanemærket: | D5: Vælg | L5: Start
C6: Hvis ja, angiv licens nr.: | D6: Indsæt | L6: Vareoplysninger
C7: Bekræft at certifikat er fremsendt: | D7: Vælg | L7: Yderligere vareoplysninger
L8: Brugsanvisning og anvendelse
C9: EU-Blomsten: | D9: Vælg | L9: Andre mærkningsoplysninger
C10: Hvis ja, angiv licens nr.: | D10: Indsæt
C11: Bekræft at certifikat er fremsendt: | D11: Vælg
C13: Astma & Allergi: | D13: Vælg
C14: Hvis ja, hvilket: (fx nordisk) | D14: Indsæt
C16: FSC: | D16: Vælg
C17: Hvilken type af certificering? | D17: Vælg
C18: Hvis ja, angiv licens nr.: | D18: Indsæt
C19: Bekræft at certifikat er fremsendt: | D19: Vælg
C21: Andet (angiv): | D21: Indsæt
C23: Forrige
